BEGIN:VCALENDAR
VERSION:2.0
PRODID:Quicksite
NAME:Calendrier
X-WR-CALNAME:Calendrier
REFRESH-INTERVAL;VALUE=DURATION:PT240M
X-PUBLISHED-TTL:PT240M
BEGIN:VEVENT
UID:69e7e68ee6543
SUMMARY:Tour de Romandie 2026
DESCRIPTION:Traversée du village aux alentours de 14h
LOCATION:Servion
DTSTART:20260503
DTSTAMP:20260421T083515Z
END:VEVENT
END:VCALENDAR